BEGIN:VCALENDAR
VERSION:2.0
PRODID:-//Harmoniemusik Untermaiselstein-Rottach e.V. - ECPv6.15.20//NONSGML v1.0//EN
CALSCALE:GREGORIAN
METHOD:PUBLISH
X-WR-CALNAME:Harmoniemusik Untermaiselstein-Rottach e.V.
X-ORIGINAL-URL:http://musik-ustein-rottach.de
X-WR-CALDESC:Veranstaltungen für Harmoniemusik Untermaiselstein-Rottach e.V.
REFRESH-INTERVAL;VALUE=DURATION:PT1H
X-Robots-Tag:noindex
X-PUBLISHED-TTL:PT1H
BEGIN:VTIMEZONE
TZID:Europe/Berlin
BEGIN:DAYLIGHT
TZOFFSETFROM:+0100
TZOFFSETTO:+0200
TZNAME:CEST
DTSTART:20250330T010000
END:DAYLIGHT
BEGIN:STANDARD
TZOFFSETFROM:+0200
TZOFFSETTO:+0100
TZNAME:CET
DTSTART:20251026T010000
END:STANDARD
BEGIN:DAYLIGHT
TZOFFSETFROM:+0100
TZOFFSETTO:+0200
TZNAME:CEST
DTSTART:20260329T010000
END:DAYLIGHT
BEGIN:STANDARD
TZOFFSETFROM:+0200
TZOFFSETTO:+0100
TZNAME:CET
DTSTART:20261025T010000
END:STANDARD
BEGIN:DAYLIGHT
TZOFFSETFROM:+0100
TZOFFSETTO:+0200
TZNAME:CEST
DTSTART:20270328T010000
END:DAYLIGHT
BEGIN:STANDARD
TZOFFSETFROM:+0200
TZOFFSETTO:+0100
TZNAME:CET
DTSTART:20271031T010000
END:STANDARD
END:VTIMEZONE
BEGIN:VEVENT
DTSTART;TZID=Europe/Berlin:20260419T200000
DTEND;TZID=Europe/Berlin:20260419T220000
DTSTAMP:20260421T170023
CREATED:20260107T172722Z
LAST-MODIFIED:20260325T130021Z
UID:1103-1776628800-1776636000@musik-ustein-rottach.de
SUMMARY:Frühjahrskonzert
DESCRIPTION:
URL:http://musik-ustein-rottach.de/event/fruehjahrskonzert/
LOCATION:Hirsch Sulzberg\, Sonthofener Str. 4\, 87477 Sulzberg\, Deutschland
END:VEVENT
END:VCALENDAR