BEGIN:VCALENDAR
VERSION:2.0
PRODID:-//Harmoniemusik Untermaiselstein-Rottach e.V. - ECPv6.15.20//NONSGML v1.0//EN
CALSCALE:GREGORIAN
METHOD:PUBLISH
X-WR-CALNAME:Harmoniemusik Untermaiselstein-Rottach e.V.
X-ORIGINAL-URL:http://musik-ustein-rottach.de
X-WR-CALDESC:Veranstaltungen für Harmoniemusik Untermaiselstein-Rottach e.V.
REFRESH-INTERVAL;VALUE=DURATION:PT1H
X-Robots-Tag:noindex
X-PUBLISHED-TTL:PT1H
BEGIN:VTIMEZONE
TZID:Europe/Berlin
BEGIN:DAYLIGHT
TZOFFSETFROM:+0100
TZOFFSETTO:+0200
TZNAME:CEST
DTSTART:20250330T010000
END:DAYLIGHT
BEGIN:STANDARD
TZOFFSETFROM:+0200
TZOFFSETTO:+0100
TZNAME:CET
DTSTART:20251026T010000
END:STANDARD
BEGIN:DAYLIGHT
TZOFFSETFROM:+0100
TZOFFSETTO:+0200
TZNAME:CEST
DTSTART:20260329T010000
END:DAYLIGHT
BEGIN:STANDARD
TZOFFSETFROM:+0200
TZOFFSETTO:+0100
TZNAME:CET
DTSTART:20261025T010000
END:STANDARD
BEGIN:DAYLIGHT
TZOFFSETFROM:+0100
TZOFFSETTO:+0200
TZNAME:CEST
DTSTART:20270328T010000
END:DAYLIGHT
BEGIN:STANDARD
TZOFFSETFROM:+0200
TZOFFSETTO:+0100
TZNAME:CET
DTSTART:20271031T010000
END:STANDARD
END:VTIMEZONE
BEGIN:VEVENT
DTSTART;TZID=Europe/Berlin:20260619T200000
DTEND;TZID=Europe/Berlin:20260619T230000
DTSTAMP:20260423T171929
CREATED:20260107T173851Z
LAST-MODIFIED:20260107T180610Z
UID:1111-1781899200-1781910000@musik-ustein-rottach.de
SUMMARY:Stimmumgsabend Musikfest Akams
DESCRIPTION:
URL:http://musik-ustein-rottach.de/event/stimmumgsabend-musikfest-akams/
LOCATION:Zimmerei Kennerknecht\, Adelharz 4\, 87509\, Immenstadt\, Germany
END:VEVENT
BEGIN:VEVENT
DTSTART;TZID=Europe/Berlin:20260621T133000
DTEND;TZID=Europe/Berlin:20260621T170000
DTSTAMP:20260423T171929
CREATED:20260107T174324Z
LAST-MODIFIED:20260107T174324Z
UID:1116-1782048600-1782061200@musik-ustein-rottach.de
SUMMARY:Festumzug Musikfest Akams
DESCRIPTION:
URL:http://musik-ustein-rottach.de/event/festumzug-musikfest-akams/
END:VEVENT
BEGIN:VEVENT
DTSTART;TZID=Europe/Berlin:20260628T200000
DTEND;TZID=Europe/Berlin:20260628T213000
DTSTAMP:20260423T171929
CREATED:20260107T175023Z
LAST-MODIFIED:20260107T180649Z
UID:1130-1782676800-1782682200@musik-ustein-rottach.de
SUMMARY:Standkonzert
DESCRIPTION:
URL:http://musik-ustein-rottach.de/event/standkonzert-2/
LOCATION:Dorfplatz/Pavillon Untermaiselstein\, Untermaiselstein\, 87549\, Deutschland
END:VEVENT
END:VCALENDAR