BEGIN:VCALENDAR
VERSION:2.0
PRODID:-//Harmoniemusik Untermaiselstein-Rottach e.V. - ECPv6.15.20//NONSGML v1.0//EN
CALSCALE:GREGORIAN
METHOD:PUBLISH
X-ORIGINAL-URL:http://musik-ustein-rottach.de
X-WR-CALDESC:Veranstaltungen für Harmoniemusik Untermaiselstein-Rottach e.V.
REFRESH-INTERVAL;VALUE=DURATION:PT1H
X-Robots-Tag:noindex
X-PUBLISHED-TTL:PT1H
BEGIN:VTIMEZONE
TZID:Europe/Berlin
BEGIN:DAYLIGHT
TZOFFSETFROM:+0100
TZOFFSETTO:+0200
TZNAME:CEST
DTSTART:20250330T010000
END:DAYLIGHT
BEGIN:STANDARD
TZOFFSETFROM:+0200
TZOFFSETTO:+0100
TZNAME:CET
DTSTART:20251026T010000
END:STANDARD
BEGIN:DAYLIGHT
TZOFFSETFROM:+0100
TZOFFSETTO:+0200
TZNAME:CEST
DTSTART:20260329T010000
END:DAYLIGHT
BEGIN:STANDARD
TZOFFSETFROM:+0200
TZOFFSETTO:+0100
TZNAME:CET
DTSTART:20261025T010000
END:STANDARD
BEGIN:DAYLIGHT
TZOFFSETFROM:+0100
TZOFFSETTO:+0200
TZNAME:CEST
DTSTART:20270328T010000
END:DAYLIGHT
BEGIN:STANDARD
TZOFFSETFROM:+0200
TZOFFSETTO:+0100
TZNAME:CET
DTSTART:20271031T010000
END:STANDARD
END:VTIMEZONE
BEGIN:VEVENT
DTSTART;TZID=Europe/Berlin:20260703T193000
DTEND;TZID=Europe/Berlin:20260703T230000
DTSTAMP:20260423T183132
CREATED:20260107T174542Z
LAST-MODIFIED:20260107T174543Z
UID:1126-1783107000-1783119600@musik-ustein-rottach.de
SUMMARY:Grillabend Untermaiselstein
DESCRIPTION:
URL:http://musik-ustein-rottach.de/event/grillabend-untermaiselstein/
LOCATION:Dorfplatz/Pavillon Untermaiselstein\, Untermaiselstein\, 87549\, Deutschland
END:VEVENT
BEGIN:VEVENT
DTSTART;TZID=Europe/Berlin:20260709T200000
DTEND;TZID=Europe/Berlin:20260709T213000
DTSTAMP:20260423T183132
CREATED:20260107T174919Z
LAST-MODIFIED:20260107T180447Z
UID:1128-1783627200-1783632600@musik-ustein-rottach.de
SUMMARY:Standkonzert mit unseren Jungmusikern
DESCRIPTION:
URL:http://musik-ustein-rottach.de/event/standkonzert-mit-unseren-jungmusikern/
LOCATION:Dorfplatz/Pavillon Untermaiselstein\, Untermaiselstein\, 87549\, Deutschland
END:VEVENT
BEGIN:VEVENT
DTSTART;TZID=Europe/Berlin:20260717T200000
DTEND;TZID=Europe/Berlin:20260717T213000
DTSTAMP:20260423T183132
CREATED:20260107T174449Z
LAST-MODIFIED:20260107T180709Z
UID:1124-1784318400-1784323800@musik-ustein-rottach.de
SUMMARY:Standkonzert
DESCRIPTION:
URL:http://musik-ustein-rottach.de/event/standkonzert/
LOCATION:Dorfplatz/Pavillon Untermaiselstein\, Untermaiselstein\, 87549\, Deutschland
END:VEVENT
BEGIN:VEVENT
DTSTART;TZID=Europe/Berlin:20260719T133000
DTEND;TZID=Europe/Berlin:20260719T170000
DTSTAMP:20260423T183132
CREATED:20260107T175206Z
LAST-MODIFIED:20260107T180349Z
UID:1132-1784467800-1784480400@musik-ustein-rottach.de
SUMMARY:Festumzug Bezirksmusikfest Betzigau
DESCRIPTION:
URL:http://musik-ustein-rottach.de/event/festumzug-bezirksmusikfest-betzigau/
END:VEVENT
BEGIN:VEVENT
DTSTART;TZID=Europe/Berlin:20260724T193000
DTEND;TZID=Europe/Berlin:20260724T230000
DTSTAMP:20260423T183132
CREATED:20260107T175301Z
LAST-MODIFIED:20260117T120123Z
UID:1134-1784921400-1784934000@musik-ustein-rottach.de
SUMMARY:Grillabend Untermaiselstein
DESCRIPTION:
URL:http://musik-ustein-rottach.de/event/grillabend-untermaiselstein-2/
LOCATION:Dorfplatz/Pavillon Untermaiselstein\, Untermaiselstein\, 87549\, Deutschland
END:VEVENT
BEGIN:VEVENT
DTSTART;TZID=Europe/Berlin:20260731T193000
DTEND;TZID=Europe/Berlin:20260731T230000
DTSTAMP:20260423T183132
CREATED:20260107T175348Z
LAST-MODIFIED:20260107T180406Z
UID:1136-1785526200-1785538800@musik-ustein-rottach.de
SUMMARY:Grillabend Rottach
DESCRIPTION:
URL:http://musik-ustein-rottach.de/event/grillabend-rottach/
LOCATION:Schützenhaus Rottach\, Hauptstraße 22\, Rottach\, 87549\, Deutschland
END:VEVENT
END:VCALENDAR