BEGIN:VCALENDAR
VERSION:2.0
PRODID:-//Harmoniemusik Untermaiselstein-Rottach e.V. - ECPv6.15.20//NONSGML v1.0//EN
CALSCALE:GREGORIAN
METHOD:PUBLISH
X-WR-CALNAME:Harmoniemusik Untermaiselstein-Rottach e.V.
X-ORIGINAL-URL:http://musik-ustein-rottach.de
X-WR-CALDESC:Veranstaltungen für Harmoniemusik Untermaiselstein-Rottach e.V.
REFRESH-INTERVAL;VALUE=DURATION:PT1H
X-Robots-Tag:noindex
X-PUBLISHED-TTL:PT1H
BEGIN:VTIMEZONE
TZID:Europe/Berlin
BEGIN:DAYLIGHT
TZOFFSETFROM:+0100
TZOFFSETTO:+0200
TZNAME:CEST
DTSTART:20250330T010000
END:DAYLIGHT
BEGIN:STANDARD
TZOFFSETFROM:+0200
TZOFFSETTO:+0100
TZNAME:CET
DTSTART:20251026T010000
END:STANDARD
BEGIN:DAYLIGHT
TZOFFSETFROM:+0100
TZOFFSETTO:+0200
TZNAME:CEST
DTSTART:20260329T010000
END:DAYLIGHT
BEGIN:STANDARD
TZOFFSETFROM:+0200
TZOFFSETTO:+0100
TZNAME:CET
DTSTART:20261025T010000
END:STANDARD
BEGIN:DAYLIGHT
TZOFFSETFROM:+0100
TZOFFSETTO:+0200
TZNAME:CEST
DTSTART:20270328T010000
END:DAYLIGHT
BEGIN:STANDARD
TZOFFSETFROM:+0200
TZOFFSETTO:+0100
TZNAME:CET
DTSTART:20271031T010000
END:STANDARD
END:VTIMEZONE
BEGIN:VEVENT
DTSTART;TZID=Europe/Berlin:20260927T110000
DTEND;TZID=Europe/Berlin:20260927T170000
DTSTAMP:20260423T210026
CREATED:20260107T175909Z
LAST-MODIFIED:20260107T175910Z
UID:1144-1790506800-1790528400@musik-ustein-rottach.de
SUMMARY:Oktoberfest Feuerwehr Untermaiselstein
DESCRIPTION:
URL:http://musik-ustein-rottach.de/event/oktoberfest-feuerwehr-untermaiselstein/
LOCATION:Feuerwehrhaus Freidorf\, Dorfstraße 14\, Rettenberg/Freidorf\, Bayern\, 87549\, Deutschland
END:VEVENT
END:VCALENDAR